BEGIN:VCALENDAR
METHOD:PUBLISH
PRODID:www-nat-fau-eu//Events//EN
VERSION:2.0
BEGIN:VEVENT
SUMMARY:Colloquium: Nicolas Neuß (FAU): Mathematische Modellierung am
  Beispiel von Covid-19 und darüber hinaus
UID:a7ef40d8-d228-4a93-966a-de06755faa2d
DESCRIPTION:For details of the lectures\, please see https://en.www.ma
 th.fau.de/department/mathematisches-kolloquium/colloquium-ss-2026/#pan
 el_1af698b4
DTSTART:20260609T143000Z
DTEND:20260609T153000Z
LOCATION:Hörsaal H13\, Cauerstr. 11\, 91058 Erlangen
DTSTAMP:20260420T074632Z
END:VEVENT
END:VCALENDAR