BEGIN:VCALENDAR
METHOD:PUBLISH
PRODID:www-nat-fau-eu//Events//EN
VERSION:2.0
BEGIN:VEVENT
SUMMARY:Promotionsvortrag: Yvonne Guckenbiehl\, Transportmechanismen v
 on ausgewählten Aromastoffen während des Conchierens dunkler Schokol
 ade
UID:040000008200E00074C5B7101A82E0080000000030179AFB3DC0DC010000000000
 00000010000000B350831A4B56024BAF235A2A6E02A65A
DESCRIPTION:Im Rahmen ihres Promotionsverfahrens hält Frau Yvonne Guc
 kenbiehl am Donnerstag\, den 16. April 2026\, um 14:30 Uhr im Seminarr
 aum 00.020\, ZMPT\, Henkestr. 91\, Erlangen\, einen ca. halbstündigen
  wissenschaftlichen Vortrag mit dem Thema: Transportmechanismen von au
 sgewählten Aromastoffen während des Conchierens dunkler Schokolade. 
 Dem Vortrag schließt sich eine Diskussion von 15 Minuten an. Vortrag 
 und Diskussion sind öffentlich. Diesen Verfahrensteilen folgt ein nic
 ht öffentliches Rigorosum von 45 Minuten.
DTSTART:20260416T123000Z
DTEND:20260416T131500Z
LOCATION:Seminarraum 00.020\, ZMPT\, Henkestr. 91\, Erlangen
DTSTAMP:20260420T053952Z
END:VEVENT
END:VCALENDAR