BEGIN:VCALENDAR
METHOD:PUBLISH
PRODID:www-nat-fau-eu//Events//EN
VERSION:2.0
BEGIN:VEVENT
SUMMARY:Promotionsvortrag: Phillip Greißel\, Molecular and Nanoscale 
 Architectures for Solar Energy Conversion and Beyond
UID:040000008200E00074C5B7101A82E00800000000D0D1C77E55C0DC010000000000
 00000010000000AA6900B9A1927842A71A836954C5762D
DESCRIPTION:Im Rahmen seines Promotionsverfahrens hält Herr Phillip G
 reißel am Montag\, den 20. April 2026\, um 15:30 Uhr im Hörsaal C3\,
  Chemikum\, Nikolaus-Fiebiger-Str. 10\, Erlangen einen ca. halbstündi
 gen wissenschaftlichen Vortrag mit dem Thema: Molecular and Nanoscale 
 Architectures for Solar Energy Conversion and Beyond. Dem Vortrag schl
 ießt sich eine Diskussion von 15 Minuten an. Vortrag und Diskussion s
 ind öffentlich. Diesen Verfahrensteilen folgt ein nicht öffentliches
  Rigorosum von 45 Minuten.
DTSTART:20260420T133000Z
DTEND:20260420T141500Z
LOCATION:Hörsaal C3\, Chemikum\, Nikolaus-Fiebiger-Str. 10\, Erlangen
DTSTAMP:20260420T044855Z
END:VEVENT
END:VCALENDAR