BEGIN:VCALENDAR
METHOD:PUBLISH
PRODID:www-nat-fau-eu//Events//EN
VERSION:2.0
BEGIN:VEVENT
SUMMARY:Colloquium: Gerd Antes (Albert-Ludwigs-Universität Freiburg):
  Von Studien über Big Data zu Künstlicher Intelligenz - Freund oder 
 Feind?
UID:f48045c2-f3c0-45d5-ad9f-cd06e1a2cc40
DESCRIPTION:For details of the lectures\, please see https://en.www.ma
 th.fau.de/department/mathematisches-kolloquium/colloquium-ss-2026/#pan
 el_a5042356
DTSTART:20260623T143000Z
DTEND:20260623T153000Z
LOCATION:Hörsaal H13\, Cauerstr. 11\, 91058 Erlangen
DTSTAMP:20260421T004151Z
END:VEVENT
END:VCALENDAR