BEGIN:VCALENDAR
METHOD:PUBLISH
PRODID:www-nat-fau-eu//Events//EN
VERSION:2.0
BEGIN:VEVENT
SUMMARY:Forschungskolloquium PG: Classification of Debris Glacier usin
 g Machine Learning and Deep Learning on High-resolution Imagery. (Prof
 . Aftab Khan & Syed Najam Hassan)
UID:040000008200E00074C5B7101A82E0080000000037AA0D0BB1D0DC010000000000
 0000001000000087AE1C083BB622449AE7E1C1DD1670B1
DESCRIPTION:Nähere Informationen zum Vortragsinhalt finden Sie hier.
DTSTART:20260429T103000Z
DTEND:20260429T120000Z
LOCATION:SR 00.210\, Wetterkreuz 15 - 91058 Erlangen-Tennenlohe
DTSTAMP:20260421T003704Z
END:VEVENT
END:VCALENDAR