BEGIN:VCALENDAR
METHOD:PUBLISH
PRODID:www-nat-fau-eu//Events//EN
VERSION:2.0
BEGIN:VEVENT
SUMMARY:Forschungskolloquium PG: Deep Learning for Supraglacial Lake S
 egmentation in the Karakoram. (Dr. Nicolaz Munoz)
UID:040000008200E00074C5B7101A82E008000000009EB9E2C3B1D0DC010000000000
 000000100000005B82DCE0B1EB314696FBC588DFB1E161
DESCRIPTION:Nähere Informationen zum Vortragsinhalt finden Sie hier.
DTSTART:20260624T103000Z
DTEND:20260624T120000Z
LOCATION:SR 00.210\, Wetterkreuz 15 - 91058 Erlangen-Tennenlohe
DTSTAMP:20260421T003704Z
END:VEVENT
END:VCALENDAR