BEGIN:VCALENDAR
METHOD:PUBLISH
PRODID:www-nat-fau-eu//Events//EN
VERSION:2.0
BEGIN:VEVENT
SUMMARY:Sensory Sciences Guest lectures: Lena Trost\, Invisible Scent:
  Glass Tasting as an Art-Based Sensory Research Method for Embodied Im
 agination
UID:040000008200E00074C5B7101A82E0080000000060F71F08E0C1DC010000000000
 00000010000000A95A6E4E06364547A4A25F3121D404FD
DESCRIPTION:The Sensory Sciences Team is happy to invite you to a spec
 ial Sensory Science lecture\, in which they welcome LENA TROST from Ba
 uhaus University Weimar. She will present her PhD work on scent imagin
 ation using glass noses in her talk titled Invisible Scent: Glass Tast
 ing as an Art-Based Sensory Research Method for Embodied Imagination. 
 Please note that that the lecture starts at 5 pm! Make sure to join as
  in person at the Medical Valley Center Erlangen\, Henkestraße 91. Fo
 r more details and online access\, please visit the Sensory Sciences w
 ebsite.
DTSTART:20260409T150000Z
DTEND:20260409T163000Z
LOCATION:Seminar room in the Medical Valley Center\, Henkestraße 91\,
  Erlangen
DTSTAMP:20260422T021531Z
END:VEVENT
END:VCALENDAR