BEGIN:VCALENDAR
METHOD:PUBLISH
PRODID:www-nat-fau-eu//Events//EN
VERSION:2.0
BEGIN:VEVENT
SUMMARY:Promotionsvortrag: Tatjana Alves Soares\, Chemical Characteriz
 ation of Volatiles from Taeniopygia Castanotis
UID:040000008200E00074C5B7101A82E00800000000005F10769CD1DC010000000000
 00000010000000331FC84073B1004AB95B0ACC9B4F97FD
DESCRIPTION:Im Rahmen ihres Promotionsverfahrens hält Frau Tatjana Al
 ves Soares am Donnerstag\, den 30. April 2026\, um 10:30 Uhr im Pharma
 zie-Seminarraum 00.233/234\, Chemikum\, Nikolaus-Fiebiger-Str. 10\, Er
 langen\, einen ca. halbstündigen wissenschaftlichen Vortrag mit dem T
 hema: CHEMICAL CHARACTERIZATION OF VOLATILES FROM TAENIOPYGIA CASTANOT
 IS. Dem Vortrag schließt sich eine Diskussion von 15 Minuten an. Vort
 rag und Diskussion sind öffentlich. Diesen Verfahrensteilen folgt ein
  nicht öffentliches Rigorosum von 45 Minuten.
DTSTART:20260430T083000Z
DTEND:20260430T091500Z
LOCATION:Pharmazie-SR 00.233/234\, Chemikum\, Nikolaus-Fiebiger-Str. 1
 0\, Erlangen
DTSTAMP:20260422T022003Z
END:VEVENT
END:VCALENDAR