BEGIN:VCALENDAR
METHOD:PUBLISH
PRODID:www-nat-fau-eu//Events//EN
VERSION:2.0
BEGIN:VEVENT
SUMMARY:Colloquium: Tomoyuki Arakawa (Kyoto University): Symplectic Si
 ngularities and Vertex Algebras
UID:984dfc6e-409f-4d8a-a641-c5a18efafaa5
DESCRIPTION:For details of the lectures\, please see https://en.www.ma
 th.fau.de/department/mathematisches-kolloquium/colloquium-ss-2025/#col
 lapse_2
DTSTART:20250513T143000Z
DTEND:20250513T153000Z
LOCATION:Hörsaal H13\, Cauerstr. 11\, 91058 Erlangen
DTSTAMP:20260423T054353Z
END:VEVENT
END:VCALENDAR