BEGIN:VCALENDAR
METHOD:PUBLISH
PRODID:www-nat-fau-eu//Events//EN
VERSION:2.0
BEGIN:VEVENT
SUMMARY:Promotionsvortrag: Nico Staffen\, Investigation of the conform
 ational behavior of G protein-coupled receptors through molecular dyna
 mics simulations
UID:040000008200E00074C5B7101A82E0080000000050D150119FC2DC010000000000
 0000001000000034266A74D10C1345B8B73A2886F61464
DESCRIPTION:Im Rahmen seines Promotionsverfahrens hält Herr Niko Staf
 fen am Freitag\, den 17. April 2026\, um 15:00 Uhr im Hörsaal C4\, Ch
 emikum\, Nikolaus-Fiebiger-Str. 10\, Erlangen\, einen ca. halbstündig
 en wissenschaftlichen Vortrag mit dem Thema: Investigation of the conf
 ormational behavior of G protein-coupled receptors through molecular d
 ynamics simulations. Dem Vortrag schließt sich eine Diskussion von 15
  Minuten an. Vortrag und Diskussion sind öffentlich. Diesen Verfahren
 steilen folgt ein nicht öffentliches Rigorosum von 45 Minuten.
DTSTART:20260417T130000Z
DTEND:20260417T134500Z
LOCATION:Hörsaal C4\, Chemikum\, Nikolaus-Fiebiger-Str. 10\, Erlangen
DTSTAMP:20260423T054505Z
END:VEVENT
END:VCALENDAR